BEGIN:VCALENDAR
VERSION:2.0
PRODID:-//Barnaby’s Lounge - ECPv6.15.20//NONSGML v1.0//EN
CALSCALE:GREGORIAN
METHOD:PUBLISH
X-ORIGINAL-URL:https://barnabyslounge.co.uk
X-WR-CALDESC:Events for Barnaby’s Lounge
REFRESH-INTERVAL;VALUE=DURATION:PT1H
X-Robots-Tag:noindex
X-PUBLISHED-TTL:PT1H
BEGIN:VTIMEZONE
TZID:Europe/London
BEGIN:DAYLIGHT
TZOFFSETFROM:+0000
TZOFFSETTO:+0100
TZNAME:BST
DTSTART:20250330T010000
END:DAYLIGHT
BEGIN:STANDARD
TZOFFSETFROM:+0100
TZOFFSETTO:+0000
TZNAME:GMT
DTSTART:20251026T010000
END:STANDARD
BEGIN:DAYLIGHT
TZOFFSETFROM:+0000
TZOFFSETTO:+0100
TZNAME:BST
DTSTART:20260329T010000
END:DAYLIGHT
BEGIN:STANDARD
TZOFFSETFROM:+0100
TZOFFSETTO:+0000
TZNAME:GMT
DTSTART:20261025T010000
END:STANDARD
BEGIN:DAYLIGHT
TZOFFSETFROM:+0000
TZOFFSETTO:+0100
TZNAME:BST
DTSTART:20270328T010000
END:DAYLIGHT
BEGIN:STANDARD
TZOFFSETFROM:+0100
TZOFFSETTO:+0000
TZNAME:GMT
DTSTART:20271031T010000
END:STANDARD
END:VTIMEZONE
BEGIN:VEVENT
DTSTART;TZID=Europe/London:20260421T080000
DTEND;TZID=Europe/London:20260627T233000
DTSTAMP:20260423T123726
CREATED:20260330T162232Z
LAST-MODIFIED:20260421T085953Z
UID:86143-1776758400-1782603000@barnabyslounge.co.uk
SUMMARY:Midnight in Havana - 27th June ~ 7pm til Late
DESCRIPTION:For one night only\, Barnaby’s Lounge transforms into MIDNIGHT IN HAVANA \nMidnight in Havana begins as an intimate Cuban-inspired supper club experience for just 40 seated guests\, featuring a welcome cocktail\, generous Cuban dining\, live music and a carefully curated atmosphere of colour\, rhythm and late-night energy. \nAs the evening unfolds\, the room gradually shifts into Havana After Dark — a vibrant late-night lounge of rum cocktails\, DJs\, live Cuban sounds and dancing. Expect a warm\, immersive space filled with music\, flavour and atmosphere — inspired by the spirit of Havana nightlife. \nSupper Club Ticket — £45 Limited to 40 guests. Book HERE \nYour ticket includes: \n•⁠ ⁠A high-end welcome cocktail on arrival\n•⁠ ⁠Seated Cuban dining experience with generous sharing plates\n•⁠ ⁠Live Cuban band performing during the evening\n•⁠ ⁠Cuban art installation transforming the space\n•⁠ ⁠A fully themed Havana-inspired atmosphere\n•⁠ ⁠Priority access to the dancefloor once the late-night lounge begins \nThis portion of the evening is intentionally small\, immersive and intimate. \nPowell’s kitchen presents CUBAN SUPPER CLUB: Book HERE \nGuests can expect a generous Cuban-inspired menu served across the evening\, including: \nAmuse-Bouche: Mini Toston with mojo Pork Crispy pressed plantain\, slow cooked citrus & garlic pork micro coriander and lime gel\nStarter: Cuban Tuna Tiradito Yellowfin tuna \, leche de Tigre-style citrus dressing with orange & lime\, chilli oil\, \npickled red onion\, crispy plantain shards\nMain: Mojo-Marinated Beef Short Rib12 hour braised short rib\, garlic & sour orange mojo glaze\, sweet potato purée\, grilled corn\, crispy shallots\, rich reduced jus\nDessert: Deconstructed Tres Leches Vanilla sponge\, soaked in milk\, whipped cream espuma\, caramelised pineapple\, rum caramel\, toasted coconut \nAdditional late-night plates will also be available. \nCocktails \nOur bar will be serving classic Cuban rum cocktails throughout the night\, including: \n•⁠ ⁠Midnight Mojito\n•⁠ ⁠Havana Daiquiri\n•⁠ ⁠Spiced Old Havana\n•⁠ ⁠Cuba Libre \nRum flights and nightcaps will also be available. Book HERE \nHavana After Dark — Late Entry £10 \nFrom later in the evening\, Barnaby’s opens for dancing and drinks as the night shifts into a lively Havana-style lounge atmosphere. \nLate entry tickets include: \n•⁠ ⁠Entry to the live band and DJ sets\n•⁠ ⁠Full cocktail menu\n•⁠ ⁠Dancing and late-night atmosphere \nImportant \nThis event is strictly limited to 40 supper club seats. \nOnce these tickets sell out\, only late-night entry tickets (£10) will remain. \nEarly booking is strongly recommended. \nDress code (optional): Havana evening style — linen\, summer elegance\, vintage glamour or tropical flair encouraged. \nJoin us for a night of rum\, rhythm\, colour and Cuban energy as Barnaby’s Lounge becomes Midnight in Havana.
URL:https://barnabyslounge.co.uk/event/midnight-in-havana-2nd-may-7pm-til-late/
LOCATION:Barnaby’s Lounge\, 46 Robertson Street\, Hastings\, East Sussex\, TN34 1NJ\, United Kingdom
ATTACH;FMTTYPE=image/jpeg:https://barnabyslounge.co.uk/wp-content/uploads/2026/03/WhatsApp-Image-2026-04-16-at-17.40.09.jpeg
END:VEVENT
BEGIN:VEVENT
DTSTART;TZID=Europe/London:20260423T150000
DTEND;TZID=Europe/London:20260423T170000
DTSTAMP:20260423T123726
CREATED:20251201T120839Z
LAST-MODIFIED:20260406T173158Z
UID:85363-1776956400-1776963600@barnabyslounge.co.uk
SUMMARY:Writers Cafe - Silent Writing Session- Every Tuesday and Thursday 3.00-5.00pm
DESCRIPTION:Writers Cafe – Silent Writing Session \nWriter’s Cafe – Every Tuesday & Thursday 3 – 5pm Come and write with us! A co-working club and writing snug every Tue & Thu\, 3-5 pm\, at Barnaby’s Bar. Two hours quiet working – set your intention – make progress on your projects then join us for a drink downstairs. \nIt’s free\, but please register as space is limited. https://lu.ma/WritersCafe
URL:https://barnabyslounge.co.uk/event/writers-caffe-silent-writing-session-every-tuesday-and-thursday-3-00-5-00pm/
LOCATION:Barnaby’s Lounge\, 46 Robertson Street\, Hastings\, East Sussex\, TN34 1NJ\, United Kingdom
ATTACH;FMTTYPE=image/png:https://barnabyslounge.co.uk/wp-content/uploads/2025/06/Writers-Cafe-2-Tuesdays-Thursdays.png
END:VEVENT
BEGIN:VEVENT
DTSTART;TZID=Europe/London:20260424T203000
DTEND;TZID=Europe/London:20260424T223000
DTSTAMP:20260423T123726
CREATED:20260401T124248Z
LAST-MODIFIED:20260401T145253Z
UID:86187-1777062600-1777069800@barnabyslounge.co.uk
SUMMARY:Dan McConkey & Harry Whitty Jazz Duo ~ 8.30pm
DESCRIPTION:Daniel McConkey & Harry Whitty – Jazz Duo\nJoin us at Barnaby’s Lounge for an intimate evening of live jazz with London-based musicians Daniel McConkey and Harry Whitty.\nA highly regarded saxophonist and composer\, Dan McConkey is known for his warm tone and melodic\, contemporary approach to jazz\, with performances at venues including Abbey Road and Ronnie Scott’s Jazz Club.\nHe is joined by multi-instrumentalist Harry Whitty — a versatile performer spanning trombone\, piano and bass\, whose playing draws on jazz\, blues and New Orleans traditions. \nTogether\, they create a dynamic and expressive duo sound — blending improvisation\, groove and musical conversation in a relaxed\, intimate setting. \nThe evening continues with late-night karaoke\, turning a refined jazz session into a lively\, open-floor celebration. \nAs always at Barnaby’s\, enjoy handcrafted cocktails and dishes from Powell’s Kitchen by Chef Chris Powell.
URL:https://barnabyslounge.co.uk/event/dan-mcconkey-harry-whitty-jazz-duo-8-30pm/
LOCATION:Barnaby’s Lounge\, 46 Robertson Street\, Hastings\, East Sussex\, TN34 1NJ\, United Kingdom
ATTACH;FMTTYPE=image/png:https://barnabyslounge.co.uk/wp-content/uploads/2026/04/Dan-McConkey1.png
END:VEVENT
BEGIN:VEVENT
DTSTART;TZID=Europe/London:20260424T230000
DTEND;TZID=Europe/London:20260425T030000
DTSTAMP:20260423T123726
CREATED:20251201T121948Z
LAST-MODIFIED:20260330T155538Z
UID:85365-1777071600-1777086000@barnabyslounge.co.uk
SUMMARY:Karaoke - Every Friday Night 11pm til Late
DESCRIPTION:11pm start… \nBring songs you’d like to sing\, we’ll load ‘em up and have a great time until the early hours !
URL:https://barnabyslounge.co.uk/event/karaoke-every-friday-night-11pm-til-late/
LOCATION:Barnaby’s Lounge\, 46 Robertson Street\, Hastings\, East Sussex\, TN34 1NJ\, United Kingdom
ATTACH;FMTTYPE=image/jpeg:https://barnabyslounge.co.uk/wp-content/uploads/2025/11/WhatsApp-Image-2026-03-30-at-16.50.08.jpeg
END:VEVENT
BEGIN:VEVENT
DTSTART;TZID=Europe/London:20260425T163000
DTEND;TZID=Europe/London:20260425T183000
DTSTAMP:20260423T123726
CREATED:20250925T111452Z
LAST-MODIFIED:20260409T164325Z
UID:84971-1777134600-1777141800@barnabyslounge.co.uk
SUMMARY:Away With the Fairies - 4.30pm
DESCRIPTION:Folk collaboration from Brendan Shelly and Doug Stephens of Modern Humans with percussionist Yair Katz and singer Megan Wardoper
URL:https://barnabyslounge.co.uk/event/away-with-the-fairies-4-30pm/
LOCATION:East Sussex
ATTACH;FMTTYPE=image/jpeg:https://barnabyslounge.co.uk/wp-content/uploads/2025/09/WhatsApp-Image-2026-04-09-at-17.41.31.jpeg
END:VEVENT
BEGIN:VEVENT
DTSTART;TZID=Europe/London:20260425T200000
DTEND;TZID=Europe/London:20260425T220000
DTSTAMP:20260423T123726
CREATED:20260409T164903Z
LAST-MODIFIED:20260409T164903Z
UID:86315-1777147200-1777154400@barnabyslounge.co.uk
SUMMARY:Jenny Wilcox Birthday Bash & Gig ~ 8pm
DESCRIPTION:Celebrate a special evening of live jazz at Barnaby’s Lounge in Hastings with the Jenny Wilcox Birthday Bash & Gig. \nAn intimate night of outstanding musicianship featuring special guests including Jo Stout (saxophone)\, Terry Pack (bass) and Tony Shepherd (drums).\nExpect a rich programme of classic and contemporary jazz in Barnaby’s signature setting — warm\, stylish and community-driven.\nEnjoy handcrafted cocktails\, world wines and seasonal dishes from Powell’s Kitchen\, known for its comforting plates and refined flavours.\n📍 46 Robertson Street\, Hastings\n🕗 8:00pm start\n🎶 Live jazz | 🍸 Cocktails | 🍽️ Dining available\nPerfect for jazz lovers\, special occasions and a memorable night out in Hastings
URL:https://barnabyslounge.co.uk/event/jenny-wilcox-birthday-bash-gig-8pm/
LOCATION:Barnaby’s Lounge\, 46 Robertson Street\, Hastings\, East Sussex\, TN34 1NJ\, United Kingdom
ATTACH;FMTTYPE=image/jpeg:https://barnabyslounge.co.uk/wp-content/uploads/2026/04/WhatsApp-Image-2026-04-09-at-17.41.31-1.jpeg
END:VEVENT
BEGIN:VEVENT
DTSTART;TZID=Europe/London:20260426T133000
DTEND;TZID=Europe/London:20260426T153000
DTSTAMP:20260423T123726
CREATED:20260331T083429Z
LAST-MODIFIED:20260409T161645Z
UID:85984-1777210200-1777217400@barnabyslounge.co.uk
SUMMARY:Simon Savage Jazz Quartet - 1.30pm
DESCRIPTION:Jazz tenor Sax player Simon Savage\, has decades experience of playing and touring in both the jazz and pop idioms. From west end shows to big band tours and intimate laid back trios\, Simon always delivers a virtuoso performance.\n\n\n\n\nSimon Thorpe\, double bass\nAngus Bishop\, drums\nRoy Hilton\, piano
URL:https://barnabyslounge.co.uk/event/simon-savage-jazz-quartet-1-30pm/
LOCATION:Barnaby’s Lounge\, 46 Robertson Street\, Hastings\, East Sussex\, TN34 1NJ\, United Kingdom
ATTACH;FMTTYPE=image/jpeg:https://barnabyslounge.co.uk/wp-content/uploads/2026/03/WhatsApp-Image-2026-04-09-at-16.39.17.jpeg
END:VEVENT
BEGIN:VEVENT
DTSTART;TZID=Europe/London:20260426T170000
DTEND;TZID=Europe/London:20260426T170000
DTSTAMP:20260423T123726
CREATED:20260325T184151Z
LAST-MODIFIED:20260325T184151Z
UID:86073-1777222800-1777222800@barnabyslounge.co.uk
SUMMARY:Route 259 - 5.00pm
DESCRIPTION:
URL:https://barnabyslounge.co.uk/event/route-259-5-00pm/
LOCATION:East Sussex
ATTACH;FMTTYPE=image/jpeg:https://barnabyslounge.co.uk/wp-content/uploads/2026/03/Route-259-26-April.jpeg
END:VEVENT
BEGIN:VEVENT
DTSTART;TZID=Europe/London:20260427T180000
DTEND;TZID=Europe/London:20260427T190000
DTSTAMP:20260423T123726
CREATED:20251127T165219Z
LAST-MODIFIED:20260406T173020Z
UID:85316-1777312800-1777316400@barnabyslounge.co.uk
SUMMARY:Art Session Discussion – 6.00-7.00pm
DESCRIPTION:Every Monday Markus Thonett will be offering regular sessions for artists and art students to discuss any aspect of art. That includes but is not limited to any difficulties\, challenges\, ideas\, questions and fantasies related to making art. No agenda other than whatever you would like to talk about. Venue: Barnaby’s in Robertson Street\, Hastings Time: 6 pm – 7 pm Free event but donations welcome
URL:https://barnabyslounge.co.uk/event/art-session-discussion-6-00-7-00pm/
LOCATION:Barnaby’s Lounge\, 46 Robertson Street\, Hastings\, East Sussex\, TN34 1NJ\, United Kingdom
ATTACH;FMTTYPE=image/png:https://barnabyslounge.co.uk/wp-content/uploads/2025/10/SKYHOOKS-Flyer-Barnabys-event-1.png
END:VEVENT
BEGIN:VEVENT
DTSTART;TZID=Europe/London:20260428T150000
DTEND;TZID=Europe/London:20260428T170000
DTSTAMP:20260423T123726
CREATED:20251127T171044Z
LAST-MODIFIED:20260409T143900Z
UID:85321-1777388400-1777395600@barnabyslounge.co.uk
SUMMARY:Writers Cafe – 3.00pm
DESCRIPTION:Writer’s Cafe – Every Tuesday & Thursday 3 – 5pm Come and write with us! A co-working club and writing snug every Tue & Thu\, 3-5 pm\, at Barnaby’s Bar. Two hours quiet working – set your intention – make progress on your projects then join us for a drink downstairs. It’s free\, but please register as space is limited. https://lu.ma/WritersCafe
URL:https://barnabyslounge.co.uk/event/writers-cafe-3-00pm-4/
LOCATION:Barnaby’s Lounge\, 46 Robertson Street\, Hastings\, East Sussex\, TN34 1NJ\, United Kingdom
ATTACH;FMTTYPE=image/png:https://barnabyslounge.co.uk/wp-content/uploads/2025/06/Writers-Cafe-2-Tuesdays-Thursdays.png
END:VEVENT
BEGIN:VEVENT
DTSTART;TZID=Europe/London:20260429T150000
DTEND;TZID=Europe/London:20260429T170000
DTSTAMP:20260423T123726
CREATED:20260218T124153Z
LAST-MODIFIED:20260421T180028Z
UID:85892-1777474800-1777482000@barnabyslounge.co.uk
SUMMARY:The Story Well ~ 3.00pm
DESCRIPTION:These are soul stories drawn from a collective well: story-lines to stand in\, ponder on\, and journey through\, Ethereal tales\, dream-hinged and heart-slanted. \nAfterwards\, you are invited to share your reflections on what may have come up for you as you journeyed with the story’s themes\, archetypes\, atmosphere and other contents We very much look forward to welcoming you\, \nWarm regards\, Stephanie\, and all at The Story Well
URL:https://barnabyslounge.co.uk/event/the-story-well-3-00pm/
LOCATION:Barnaby’s Lounge\, 46 Robertson Street\, Hastings\, East Sussex\, TN34 1NJ\, United Kingdom
ATTACH;FMTTYPE=image/png:https://barnabyslounge.co.uk/wp-content/uploads/2026/02/Stephanie.png
END:VEVENT
BEGIN:VEVENT
DTSTART;TZID=Europe/London:20260429T190000
DTEND;TZID=Europe/London:20260429T200000
DTSTAMP:20260423T123726
CREATED:20260127T210922Z
LAST-MODIFIED:20260317T164345Z
UID:85823-1777489200-1777492800@barnabyslounge.co.uk
SUMMARY:The Rainbow McTruffle Art Experience - 7.00pm
DESCRIPTION:Fortnightly Session\, hosted by Drea Design Studio \n🌈 THE RAINBOW McTRUFFLE ART EXPERIENCE 🎨🍸 \nPaint. Drink. Socialise.\nNot a class — an EXPERIENCE.\nA fun\, relaxed art night with the aim of gathering like minded souls together to get creative.\nNo pressure\, no rules\, no experience required….you will be professionally misguided by yours truly 🤩 \n🖌️ WHAT YOU DO\nPaint (beautifully or terribly — both encouraged)\nEnjoy lovely drinks from the bar🍹(highly encouraged)\nLaugh\, relax\, and make a creative mess\nLeave with art + a good story \n🍷 THE DEAL\n✔ All art supplies included\n✔ Light guidance + total creative freedom\n✔ Fun\, social bar atmosphere\nDrinks sold separately — support the bar! \n🖌 Every 2nd Wednesday\n⏰ 7–8pm\n🍹 Cocktails • 🎨 Art • 🌈 Pure joy
URL:https://barnabyslounge.co.uk/event/the-rainbow-mctruffle-art-experience-7-00pm/
LOCATION:Barnaby’s Lounge\, 46 Robertson Street\, Hastings\, East Sussex\, TN34 1NJ\, United Kingdom
ATTACH;FMTTYPE=image/jpeg:https://barnabyslounge.co.uk/wp-content/uploads/2026/01/Rainbow-McTruffle-Fortnightly-Art-Experience.jpeg
END:VEVENT
BEGIN:VEVENT
DTSTART;TZID=Europe/London:20260430T150000
DTEND;TZID=Europe/London:20260430T170000
DTSTAMP:20260423T123726
CREATED:20250718T203239Z
LAST-MODIFIED:20260409T143959Z
UID:84393-1777561200-1777568400@barnabyslounge.co.uk
SUMMARY:Writers Cafe - 3.00pm
DESCRIPTION:Writer’s Cafe – Every Tuesday & Thursday 3 – 5pm \nCome and write with us! A co-working club and writing snug every Tue & Thu\, 3-5 pm\, at Barnaby’s Bar. \nTwo hours quiet working – set your intention – make progress on your projects then join us for a drink downstairs.\nIt’s free\, but please register as space is limited.  https://lu.ma/WritersCafe
URL:https://barnabyslounge.co.uk/event/writers-cafe-3-00pm-3/
LOCATION:Barnaby’s Lounge\, 46 Robertson Street\, Hastings\, East Sussex\, TN34 1NJ\, United Kingdom
ATTACH;FMTTYPE=image/png:https://barnabyslounge.co.uk/wp-content/uploads/2025/06/Writers-Cafe-2-Tuesdays-Thursdays.png
END:VEVENT
BEGIN:VEVENT
DTSTART;TZID=Europe/London:20260430T173000
DTEND;TZID=Europe/London:20260430T200000
DTSTAMP:20260423T123726
CREATED:20260307T142853Z
LAST-MODIFIED:20260307T142853Z
UID:85977-1777570200-1777579200@barnabyslounge.co.uk
SUMMARY:Fresh Online After Hours Networking - 5.30pm
DESCRIPTION:FREE – Reserve a Spot Here  \nFreshOnline After Hours is a relaxed networking evening for local business owners and decision-makers in and around Hastings. \n\n\n\n\nFreshOnline After Hours is a relaxed networking evening for local business owners and professionals who want to meet good people from across Hastings and the wider 1066 area. \nWho it’s for \n\nBusiness owners\, founders\, and directors\nLocal trades\, services\, and professional businesses\nAnyone who wants to grow through relationships\, referrals\, and collaborations\n\nWhat to expect \n\nA friendly venue and a proper after-work vibe\nGenuine conversations (the kind you actually remember)\nOptional introductions if you’d find that helpful\nPlenty of time to chat without being rushed\n\nIf you’re new to networking\, you’ll be welcomed in. If you already go to networking events\, this is a refreshing change of pace.
URL:https://barnabyslounge.co.uk/event/fresh-online-after-hours-networking-5-30pm/
LOCATION:East Sussex
ATTACH;FMTTYPE=image/png:https://barnabyslounge.co.uk/wp-content/uploads/2026/03/Screenshot-2026-03-07-at-13.54.06.png
END:VEVENT
END:VCALENDAR