BEGIN:VCALENDAR
VERSION:2.0
PRODID:-//Barnaby’s Lounge - ECPv6.15.20//NONSGML v1.0//EN
CALSCALE:GREGORIAN
METHOD:PUBLISH
X-ORIGINAL-URL:https://barnabyslounge.co.uk
X-WR-CALDESC:Events for Barnaby’s Lounge
REFRESH-INTERVAL;VALUE=DURATION:PT1H
X-Robots-Tag:noindex
X-PUBLISHED-TTL:PT1H
BEGIN:VTIMEZONE
TZID:Europe/London
BEGIN:DAYLIGHT
TZOFFSETFROM:+0000
TZOFFSETTO:+0100
TZNAME:BST
DTSTART:20250330T010000
END:DAYLIGHT
BEGIN:STANDARD
TZOFFSETFROM:+0100
TZOFFSETTO:+0000
TZNAME:GMT
DTSTART:20251026T010000
END:STANDARD
BEGIN:DAYLIGHT
TZOFFSETFROM:+0000
TZOFFSETTO:+0100
TZNAME:BST
DTSTART:20260329T010000
END:DAYLIGHT
BEGIN:STANDARD
TZOFFSETFROM:+0100
TZOFFSETTO:+0000
TZNAME:GMT
DTSTART:20261025T010000
END:STANDARD
BEGIN:DAYLIGHT
TZOFFSETFROM:+0000
TZOFFSETTO:+0100
TZNAME:BST
DTSTART:20270328T010000
END:DAYLIGHT
BEGIN:STANDARD
TZOFFSETFROM:+0100
TZOFFSETTO:+0000
TZNAME:GMT
DTSTART:20271031T010000
END:STANDARD
END:VTIMEZONE
BEGIN:VEVENT
DTSTART;TZID=Europe/London:20260417T173000
DTEND;TZID=Europe/London:20260417T173000
DTSTAMP:20260423T135139
CREATED:20260117T100208Z
LAST-MODIFIED:20260409T083041Z
UID:85739-1776447000-1776447000@barnabyslounge.co.uk
SUMMARY:Paul Huggett Band - 5.30pm
DESCRIPTION:THE FRIDAY KNOCK-OFF SESSION \nFriday April 17th 17:30 to 19:30 \nJoin us\, the Paul Huggett Band\, for some old school rhythm & blues\, classic soul\, upbeat originals\, and a few surprises\, and start the weekend with a swing at the coolest little bar in town 🙂
URL:https://barnabyslounge.co.uk/event/paul-huggett-mcmillan-fundraiser-show-5-00pm/
LOCATION:East Sussex
ATTACH;FMTTYPE=image/jpeg:https://barnabyslounge.co.uk/wp-content/uploads/2026/01/Paul-Huggett-Band-17-April.jpeg
END:VEVENT
BEGIN:VEVENT
DTSTART;TZID=Europe/London:20260417T203000
DTEND;TZID=Europe/London:20260417T223000
DTSTAMP:20260423T135139
CREATED:20260330T152112Z
LAST-MODIFIED:20260330T154438Z
UID:86123-1776457800-1776465000@barnabyslounge.co.uk
SUMMARY:Trinity Jazz Quartet ~ 8.30pm
DESCRIPTION:Trinity Quartet\n(local\, ironic — and swinging) \nNow an established band\, Trinity Quartet brings together Paul Moon\, Bjorn Dahlberg\, Andy Nunn\, and Luke Hannington— delivering fresh energy to timeless jazz standards\, with the occasional original woven in. \nExpect tasteful interplay\, rich grooves\, and a sound that’s effortlessly alive. \nFollowed by Karaoke 11 til late
URL:https://barnabyslounge.co.uk/event/trinity-jazz-quartet-8-30pm/
LOCATION:Barnaby’s Lounge\, 46 Robertson Street\, Hastings\, East Sussex\, TN34 1NJ\, United Kingdom
ATTACH;FMTTYPE=image/png:https://barnabyslounge.co.uk/wp-content/uploads/2026/03/Trinity-Jazz.png
END:VEVENT
END:VCALENDAR