BEGIN:VCALENDAR
VERSION:2.0
PRODID:-//Barnaby’s Lounge - ECPv6.15.20//NONSGML v1.0//EN
CALSCALE:GREGORIAN
METHOD:PUBLISH
X-WR-CALNAME:Barnaby’s Lounge
X-ORIGINAL-URL:https://barnabyslounge.co.uk
X-WR-CALDESC:Events for Barnaby’s Lounge
REFRESH-INTERVAL;VALUE=DURATION:PT1H
X-Robots-Tag:noindex
X-PUBLISHED-TTL:PT1H
BEGIN:VTIMEZONE
TZID:Europe/London
BEGIN:DAYLIGHT
TZOFFSETFROM:+0000
TZOFFSETTO:+0100
TZNAME:BST
DTSTART:20250330T010000
END:DAYLIGHT
BEGIN:STANDARD
TZOFFSETFROM:+0100
TZOFFSETTO:+0000
TZNAME:GMT
DTSTART:20251026T010000
END:STANDARD
BEGIN:DAYLIGHT
TZOFFSETFROM:+0000
TZOFFSETTO:+0100
TZNAME:BST
DTSTART:20260329T010000
END:DAYLIGHT
BEGIN:STANDARD
TZOFFSETFROM:+0100
TZOFFSETTO:+0000
TZNAME:GMT
DTSTART:20261025T010000
END:STANDARD
BEGIN:DAYLIGHT
TZOFFSETFROM:+0000
TZOFFSETTO:+0100
TZNAME:BST
DTSTART:20270328T010000
END:DAYLIGHT
BEGIN:STANDARD
TZOFFSETFROM:+0100
TZOFFSETTO:+0000
TZNAME:GMT
DTSTART:20271031T010000
END:STANDARD
END:VTIMEZONE
BEGIN:VEVENT
DTSTART;TZID=Europe/London:20260415T190000
DTEND;TZID=Europe/London:20260415T210000
DTSTAMP:20260423T140429
CREATED:20260218T120331Z
LAST-MODIFIED:20260311T170857Z
UID:85889-1776279600-1776286800@barnabyslounge.co.uk
SUMMARY:The Rainbow Mc Truffle Art Experience (Sip n Paint) ~ 7.00pm
DESCRIPTION:🌈 THE RAINBOW McTRUFFLE ART EXPERIENCE 🎨🍸 \nPaint. Drink. Socialise.\nNot a class — an EXPERIENCE.\nA fun\, relaxed art night with the aim of gathering like minded souls together to get creative.\nNo pressure\, no rules\, no experience required….you will be professionally misguided by yours truly 🤩 \n🖌️ WHAT YOU DO\nPaint (beautifully or terribly — both encouraged)\nEnjoy lovely drinks from the bar🍹(highly encouraged)\nLaugh\, relax\, and make a creative mess\nLeave with art + a good story \n🍷 THE DEAL\n✔ All art supplies included\n✔ Light guidance + total creative freedom\n✔ Fun\, social bar atmosphere\nDrinks sold separately — support the bar! \n🖌 Every 2nd Wednesday\n⏰ 7–8pm\n🍹 Cocktails • 🎨 Art • 🌈 Pure joy
URL:https://barnabyslounge.co.uk/event/the-rainbow-mc-truffle-art-experience-7-00pm/
LOCATION:Barnaby’s Lounge\, 46 Robertson Street\, Hastings\, East Sussex\, TN34 1NJ\, United Kingdom
ATTACH;FMTTYPE=image/jpeg:https://barnabyslounge.co.uk/wp-content/uploads/2026/01/Rainbow-McTruffle-Fortnightly-Art-Experience.jpeg
END:VEVENT
BEGIN:VEVENT
DTSTART;TZID=Europe/London:20260415T200000
DTEND;TZID=Europe/London:20260415T220000
DTSTAMP:20260423T140429
CREATED:20260409T091231Z
LAST-MODIFIED:20260409T142708Z
UID:86291-1776283200-1776290400@barnabyslounge.co.uk
SUMMARY:Buckle Up Burnd Country Trio - 8.00pm
DESCRIPTION:Buckle Up Burnd is the country alter ego of Belgian musician Bernd Coene. As a kid\, he was immersed in the world of cowboys through his father’s love of westerns\, country records\, and rodeo culture — a passion that resurfaced years later. This time\, not from behind the drums\, but front and center\, guitar in hand and stories to tell. \nTogether with his band\, Buckle Up Burnd pays an honest tribute to the timeless country classics of the golden ’40s and ’50s. An evening with Buckle Up Burnd is a rollicking ride through the heart of country tradition\, where the air is thick with dust\, whiskey\, and dancing boots. \nAppearing with veteran sidemen –  guitarist Matt Jackson and double bassist Matt Armstrong \n 
URL:https://barnabyslounge.co.uk/event/bernd-coene-country-trio-8-00pm/
LOCATION:Barnaby’s Lounge\, 46 Robertson Street\, Hastings\, East Sussex\, TN34 1NJ\, United Kingdom
ATTACH;FMTTYPE=image/jpeg:https://barnabyslounge.co.uk/wp-content/uploads/2026/04/WhatsApp-Image-2026-04-09-at-10.51.59.jpeg
END:VEVENT
END:VCALENDAR