BEGIN:VCALENDAR
VERSION:2.0
PRODID:-//Barnaby’s Lounge - ECPv6.15.20//NONSGML v1.0//EN
CALSCALE:GREGORIAN
METHOD:PUBLISH
X-WR-CALNAME:Barnaby’s Lounge
X-ORIGINAL-URL:https://barnabyslounge.co.uk
X-WR-CALDESC:Events for Barnaby’s Lounge
REFRESH-INTERVAL;VALUE=DURATION:PT1H
X-Robots-Tag:noindex
X-PUBLISHED-TTL:PT1H
BEGIN:VTIMEZONE
TZID:Europe/London
BEGIN:DAYLIGHT
TZOFFSETFROM:+0000
TZOFFSETTO:+0100
TZNAME:BST
DTSTART:20250330T010000
END:DAYLIGHT
BEGIN:STANDARD
TZOFFSETFROM:+0100
TZOFFSETTO:+0000
TZNAME:GMT
DTSTART:20251026T010000
END:STANDARD
BEGIN:DAYLIGHT
TZOFFSETFROM:+0000
TZOFFSETTO:+0100
TZNAME:BST
DTSTART:20260329T010000
END:DAYLIGHT
BEGIN:STANDARD
TZOFFSETFROM:+0100
TZOFFSETTO:+0000
TZNAME:GMT
DTSTART:20261025T010000
END:STANDARD
BEGIN:DAYLIGHT
TZOFFSETFROM:+0000
TZOFFSETTO:+0100
TZNAME:BST
DTSTART:20270328T010000
END:DAYLIGHT
BEGIN:STANDARD
TZOFFSETFROM:+0100
TZOFFSETTO:+0000
TZNAME:GMT
DTSTART:20271031T010000
END:STANDARD
END:VTIMEZONE
BEGIN:VEVENT
DTSTART;TZID=Europe/London:20260413T150000
DTEND;TZID=Europe/London:20260413T170000
DTSTAMP:20260423T135115
CREATED:20251026T085151Z
LAST-MODIFIED:20260305T085308Z
UID:85134-1776092400-1776099600@barnabyslounge.co.uk
SUMMARY:Susie Warren's Collage & Writing Workshop - 3.00pm
DESCRIPTION:Monday 13th April 3-5pm\nAnd on the 2nd Monday of each month \nPractise the art of collage and montage in a\nrelaxed workshop led by artist Susie Warren\nIn each session\, explore a different theme and\ntechniques\, using found materials to make new\nvisual narratives and meanings. Create your\nown artworks and/or cards. If you choose\ndevelop guided creative writing from collages\, \nCost: £5 – £10 donation for\nmaterials and tuition\nAll materials provided\n(but feel free to bring your own)\,\nSuitable for beginners\nand experienced\nAdvance\nbooking recommended\nFor more details contact @barnabyslounge\nsusiemaker4@icloud.com \nBarnaby’s Lounge\n46 Robertson Street\nHastings 01424 256675
URL:https://barnabyslounge.co.uk/event/susie-warrens-collage-writing-workshop/
LOCATION:Barnaby’s Lounge\, 46 Robertson Street\, Hastings\, East Sussex\, TN34 1NJ\, United Kingdom
ATTACH;FMTTYPE=image/jpeg:https://barnabyslounge.co.uk/wp-content/uploads/2025/10/Collage-Workshop-13-aprilFeb.jpg
END:VEVENT
END:VCALENDAR