BEGIN:VCALENDAR
VERSION:2.0
PRODID:-//Barnaby’s Lounge - ECPv6.15.20//NONSGML v1.0//EN
CALSCALE:GREGORIAN
METHOD:PUBLISH
X-ORIGINAL-URL:https://barnabyslounge.co.uk
X-WR-CALDESC:Events for Barnaby’s Lounge
REFRESH-INTERVAL;VALUE=DURATION:PT1H
X-Robots-Tag:noindex
X-PUBLISHED-TTL:PT1H
BEGIN:VTIMEZONE
TZID:Europe/London
BEGIN:DAYLIGHT
TZOFFSETFROM:+0000
TZOFFSETTO:+0100
TZNAME:BST
DTSTART:20250330T010000
END:DAYLIGHT
BEGIN:STANDARD
TZOFFSETFROM:+0100
TZOFFSETTO:+0000
TZNAME:GMT
DTSTART:20251026T010000
END:STANDARD
BEGIN:DAYLIGHT
TZOFFSETFROM:+0000
TZOFFSETTO:+0100
TZNAME:BST
DTSTART:20260329T010000
END:DAYLIGHT
BEGIN:STANDARD
TZOFFSETFROM:+0100
TZOFFSETTO:+0000
TZNAME:GMT
DTSTART:20261025T010000
END:STANDARD
BEGIN:DAYLIGHT
TZOFFSETFROM:+0000
TZOFFSETTO:+0100
TZNAME:BST
DTSTART:20270328T010000
END:DAYLIGHT
BEGIN:STANDARD
TZOFFSETFROM:+0100
TZOFFSETTO:+0000
TZNAME:GMT
DTSTART:20271031T010000
END:STANDARD
END:VTIMEZONE
BEGIN:VEVENT
DTSTART;TZID=Europe/London:20260412T133000
DTEND;TZID=Europe/London:20260412T153000
DTSTAMP:20260423T140002
CREATED:20260330T150601Z
LAST-MODIFIED:20260406T175551Z
UID:86113-1776000600-1776007800@barnabyslounge.co.uk
SUMMARY:Roy Hilton Jazz Trio - 1.30pm
DESCRIPTION:Experience the perfect Sunday in Hastings at Barnaby’s Lounge\, where exceptional live jazz\, acoustic music\, and seasonal dining come together.\nJoin us on Sunday 12th April for a soulful Sunday Jazz Lunch with the Roy Hilton Jazz Trio at 1:30pm\, followed by Afrit Nebula at 4:30pm\, bringing beautifully crafted acoustic originals. \nIndulge in a rich and comforting Sunday Roast by Powell’s Kitchen\, perfectly paired with fine wines\, handcrafted cocktails\, and an intimate\, welcoming atmosphere. \nWith a focus on live music in Hastings\, community\, and quality dining\, Barnaby’s Lounge offers a unique destination for music lovers\, food enthusiasts\, and those seeking a refined yet relaxed Sunday experience. \n💷 £6+ supports live musicians\n📍 Hastings 46 Robertson Street \nBook your table and make Sunday something special.
URL:https://barnabyslounge.co.uk/event/roy-hilton-jazz-trio-1-30pm/
LOCATION:Barnaby’s Lounge\, 46 Robertson Street\, Hastings\, East Sussex\, TN34 1NJ\, United Kingdom
ATTACH;FMTTYPE=image/jpeg:https://barnabyslounge.co.uk/wp-content/uploads/2026/03/WhatsApp-Image-2026-04-06-at-18.03.04.jpeg
END:VEVENT
BEGIN:VEVENT
DTSTART;TZID=Europe/London:20260412T163000
DTEND;TZID=Europe/London:20260412T183000
DTSTAMP:20260423T140002
CREATED:20260330T151049Z
LAST-MODIFIED:20260331T095710Z
UID:86118-1776011400-1776018600@barnabyslounge.co.uk
SUMMARY:Afrit Nebula ~ 4.30pm
DESCRIPTION:Afrit Nebula is a trio playing adventurous\, original music influenced by avant-jazz\, rock\, Middle Eastern and Afro-Cuban styles. \nElaine Edwards – saxes\, flute\, keyboard\nKen Edwards – bass guitar\, vocal\nYair Katz – drums\, guitar\, vocal \n“…brisk\, rhythmically forceful music\, with a heavy Middle Eastern leaning.”\nJazz Journal \nwww.afritnebula.com
URL:https://barnabyslounge.co.uk/event/afrit-nebula-4-30pm/
LOCATION:Barnaby’s Lounge\, 46 Robertson Street\, Hastings\, East Sussex\, TN34 1NJ\, United Kingdom
ATTACH;FMTTYPE=image/png:https://barnabyslounge.co.uk/wp-content/uploads/2026/03/afrit-nebula2.png
END:VEVENT
END:VCALENDAR